BEGIN:VCALENDAR
VERSION:2.0
PRODID:-//Hubbard Street Music - ECPv6.9.0//NONSGML v1.0//EN
CALSCALE:GREGORIAN
METHOD:PUBLISH
X-WR-CALNAME:Hubbard Street Music
X-ORIGINAL-URL:http://www.hubbardstreetmusic.com
X-WR-CALDESC:Events for Hubbard Street Music
REFRESH-INTERVAL;VALUE=DURATION:PT1H
X-Robots-Tag:noindex
X-PUBLISHED-TTL:PT1H
BEGIN:VTIMEZONE
TZID:America/New_York
BEGIN:DAYLIGHT
TZOFFSETFROM:-0500
TZOFFSETTO:-0400
TZNAME:EDT
DTSTART:20180311T070000
END:DAYLIGHT
BEGIN:STANDARD
TZOFFSETFROM:-0400
TZOFFSETTO:-0500
TZNAME:EST
DTSTART:20181104T060000
END:STANDARD
END:VTIMEZONE
BEGIN:VEVENT
DTSTART;TZID=America/New_York:20180411T193000
DTEND;TZID=America/New_York:20180411T220000
DTSTAMP:20260423T173427
CREATED:20180315T185059Z
LAST-MODIFIED:20180323T002134Z
UID:822-1523475000-1523484000@www.hubbardstreetmusic.com
SUMMARY:Coastal Birds Scandinavian Music!
DESCRIPTION:Coastal Birds is a duo consisting of Seattle’s Martha Levenson (fiddle and hardingfele) and Emma Anderson\, newly of Western Massachusetts (fiddle).  The two play traditional Nordic tunes with captivating close harmonies and fresh arrangements\, as well as newly composed tunes from around Scandinavia and the US. Come join us for a fabulous night of music! \nhttp://www.hubbardstreetmusic.com/wp-content/uploads/2018/03/Trio60MarthaEmma.mp3\nhttp://www.hubbardstreetmusic.com/wp-content/uploads/2018/03/HambointheSnowMarthaEmma.mp3
URL:http://www.hubbardstreetmusic.com/event/coastal-birds-scandinavian-music/
LOCATION:34 Hubbard Street Concord\, MA
ORGANIZER;CN="Hubbard Street Music":MAILTO:HubbardStreetMusic@gmail.com
END:VEVENT
END:VCALENDAR